BEGIN:VCALENDAR
VERSION:2.0
PRODID:-//Methuen Community Studios - ECPv6.15.20//NONSGML v1.0//EN
CALSCALE:GREGORIAN
METHOD:PUBLISH
X-WR-CALNAME:Methuen Community Studios
X-ORIGINAL-URL:https://methuentv.org
X-WR-CALDESC:Events for Methuen Community Studios
REFRESH-INTERVAL;VALUE=DURATION:PT1H
X-Robots-Tag:noindex
X-PUBLISHED-TTL:PT1H
BEGIN:VTIMEZONE
TZID:America/New_York
BEGIN:DAYLIGHT
TZOFFSETFROM:-0500
TZOFFSETTO:-0400
TZNAME:EDT
DTSTART:20220313T070000
END:DAYLIGHT
BEGIN:STANDARD
TZOFFSETFROM:-0400
TZOFFSETTO:-0500
TZNAME:EST
DTSTART:20221106T060000
END:STANDARD
BEGIN:DAYLIGHT
TZOFFSETFROM:-0500
TZOFFSETTO:-0400
TZNAME:EDT
DTSTART:20230312T070000
END:DAYLIGHT
BEGIN:STANDARD
TZOFFSETFROM:-0400
TZOFFSETTO:-0500
TZNAME:EST
DTSTART:20231105T060000
END:STANDARD
BEGIN:DAYLIGHT
TZOFFSETFROM:-0500
TZOFFSETTO:-0400
TZNAME:EDT
DTSTART:20240310T070000
END:DAYLIGHT
BEGIN:STANDARD
TZOFFSETFROM:-0400
TZOFFSETTO:-0500
TZNAME:EST
DTSTART:20241103T060000
END:STANDARD
BEGIN:DAYLIGHT
TZOFFSETFROM:-0500
TZOFFSETTO:-0400
TZNAME:EDT
DTSTART:20250309T070000
END:DAYLIGHT
BEGIN:STANDARD
TZOFFSETFROM:-0400
TZOFFSETTO:-0500
TZNAME:EST
DTSTART:20251102T060000
END:STANDARD
END:VTIMEZONE
BEGIN:VEVENT
DTSTART;TZID=America/New_York:20240911T183000
DTEND;TZID=America/New_York:20240911T203000
DTSTAMP:20260425T124441
CREATED:20240827T183833Z
LAST-MODIFIED:20240827T183833Z
UID:2654-1726079400-1726086600@methuentv.org
SUMMARY:Community Development Board Meeting
DESCRIPTION:– Watch on Comcast Xfinity Channel 8 or Verizon FiOS Channel 32 \n– View on a computer or cell phone via LIVE Stream on https://www.methuentv.org/methuen-government-tv-live-stream/ \n– This meeting will be archived and viewable on-demand within 1-3 business days at https://methuen-ma.viebit.com/
URL:https://methuentv.org/event/community-development-board-meeting-3/
LOCATION:MA
CATEGORIES:Government Meetings
END:VEVENT
BEGIN:VEVENT
DTSTART;TZID=America/New_York:20240907T190000
DTEND;TZID=America/New_York:20240907T210000
DTSTAMP:20260425T124441
CREATED:20240827T182333Z
LAST-MODIFIED:20240827T182333Z
UID:2879-1725735600-1725742800@methuentv.org
SUMMARY:Methuen Young People's Theatre Presents Iolanthe
DESCRIPTION:Methuen Memorial Music Hall is a great place for an evening out….and helping young performers hone their craft is even better. Join MCS and the MYPT for this year’s production of Gilbert and Sullivan’s Iolanthe.
URL:https://methuentv.org/event/methuen-young-peoples-theatre-presents-iolanthe/
LOCATION:Stop by and say hello to our on the scene production crew!
END:VEVENT
BEGIN:VEVENT
DTSTART;TZID=America/New_York:20240906T185500
DTEND;TZID=America/New_York:20240906T220000
DTSTAMP:20260425T124441
CREATED:20240827T181629Z
LAST-MODIFIED:20240827T182714Z
UID:2875-1725648900-1725660000@methuentv.org
SUMMARY:Live Rangers Football Coverage
DESCRIPTION:Join your favorite local commentators\, Chris and Joel\, for all the fun of a Friday night football game from your very own living room.
URL:https://methuentv.org/event/live-rangers-football-coverage/
LOCATION:Comcast Channel 22 – Verizon Channel 33 – Verizon HD 2133 – Streaming on MethuenTV.org\, MA\, United States
CATEGORIES:Community Event
END:VEVENT
BEGIN:VEVENT
DTSTART;TZID=America/New_York:20240904T190000
DTEND;TZID=America/New_York:20240904T220000
DTSTAMP:20260425T124441
CREATED:20230215T232121Z
LAST-MODIFIED:20240827T184032Z
UID:2651-1725476400-1725487200@methuentv.org
SUMMARY:City Council Regular Meeting
DESCRIPTION:– Watch on Comcast Xfinity Channel 8 or Verizon FiOS Channel 32 \n– View on a computer or cell phone via LIVE Stream on https://www.methuentv.org/methuen-government-tv-live-stream/ \n– This meeting will be archived and viewable on-demand within 1-3 business days at https://methuen-ma.viebit.com/
URL:https://methuentv.org/event/city-council-regular-meeting-2/
LOCATION:Methuen City Hall\, 41 Pleasant Street\, Methuen\, Massachusetts
CATEGORIES:Government Meetings
END:VEVENT
BEGIN:VEVENT
DTSTART;TZID=America/New_York:20230512T190000
DTEND;TZID=America/New_York:20230512T220000
DTSTAMP:20260425T124441
CREATED:20230322T175115Z
LAST-MODIFIED:20230322T175126Z
UID:2738-1683918000-1683928800@methuentv.org
SUMMARY:Dave Skelly Memorial Scholarship Music Bingo
DESCRIPTION:
URL:https://methuentv.org/event/dave-skelly-memorial-scholarship-music-bingo/
LOCATION:Methuen Community Studios\, 20 Aegean Drive\, Unit 11\, Methuen\, MA\, 01844\, United States
CATEGORIES:Community Event
END:VEVENT
BEGIN:VEVENT
DTSTART;TZID=America/New_York:20230321T173000
DTEND;TZID=America/New_York:20230321T173000
DTSTAMP:20260425T124441
CREATED:20230310T153722Z
LAST-MODIFIED:20230310T164627Z
UID:2726-1679419800-1679419800@methuentv.org
SUMMARY:Economic Development Committee Meeting
DESCRIPTION:– Watch on Comcast Xfinity Channel 8 or Verizon FiOS Channel 32 \n– View on a computer or cell phone via LIVE Stream on https://www.methuentv.org/methuen-government-tv-live-stream/ \n– This meeting will be archived and viewable on-demand within 1-3 business days at https://methuen-ma.viebit.com/
URL:https://methuentv.org/event/economic-development-committee-meeting/
LOCATION:MA
CATEGORIES:Government Meetings
END:VEVENT
BEGIN:VEVENT
DTSTART;TZID=America/New_York:20230315T183000
DTEND;TZID=America/New_York:20230315T183000
DTSTAMP:20260425T124441
CREATED:20230310T153449Z
LAST-MODIFIED:20230310T153449Z
UID:2720-1678905000-1678905000@methuentv.org
SUMMARY:Community Development Board Meeting
DESCRIPTION:– Watch on Comcast Xfinity Channel 8 or Verizon FiOS Channel 32 \n– View on a computer or cell phone via LIVE Stream on https://www.methuentv.org/methuen-government-tv-live-stream/ \n– This meeting will be archived and viewable on-demand within 1-3 business days at https://methuen-ma.viebit.com/
URL:https://methuentv.org/event/community-development-board-meeting-2/
LOCATION:Methuen City Hall\, 41 Pleasant Street\, Methuen\, Massachusetts
CATEGORIES:Government Meetings
END:VEVENT
BEGIN:VEVENT
DTSTART;TZID=America/New_York:20230315T183000
DTEND;TZID=America/New_York:20230315T183000
DTSTAMP:20260425T124441
CREATED:20230215T232539Z
LAST-MODIFIED:20230215T232539Z
UID:2657-1678905000-1678905000@methuentv.org
SUMMARY:Community Development Board Meeting
DESCRIPTION:– Watch on Comcast Xfinity Channel 8 or Verizon FiOS Channel 32 \n– View on a computer or cell phone via LIVE Stream on https://www.methuentv.org/methuen-government-tv-live-stream/ \n– This meeting will be archived and viewable on-demand within 1-3 business days at https://methuen-ma.viebit.com/
URL:https://methuentv.org/event/community-development-board-meeting/
LOCATION:MA
CATEGORIES:Government Meetings
END:VEVENT
BEGIN:VEVENT
DTSTART;TZID=America/New_York:20230314T181500
DTEND;TZID=America/New_York:20230314T181500
DTSTAMP:20260425T124441
CREATED:20230310T153608Z
LAST-MODIFIED:20230310T153608Z
UID:2724-1678817700-1678817700@methuentv.org
SUMMARY:Finance Committee Meeting
DESCRIPTION:– Watch on Comcast Xfinity Channel 8 or Verizon FiOS Channel 32 \n– View on a computer or cell phone via LIVE Stream on https://www.methuentv.org/methuen-government-tv-live-stream/ \n– This meeting will be archived and viewable on-demand within 1-3 business days at https://methuen-ma.viebit.com/
URL:https://methuentv.org/event/finance-committee-meeting/
LOCATION:MA
CATEGORIES:Government Meetings
END:VEVENT
BEGIN:VEVENT
DTSTART;TZID=America/New_York:20230314T150000
DTEND;TZID=America/New_York:20230314T170000
DTSTAMP:20260425T124441
CREATED:20230216T173024Z
LAST-MODIFIED:20230216T173103Z
UID:2666-1678806000-1678813200@methuentv.org
SUMMARY:Field Camera Class - Part 2
DESCRIPTION:Earn your free ticket to local Methuen events as you are the camera person! We will teach you how to run the camera\, what shots to get\, and how you can create your very own programs out in the community. \nTwo classes are required (March 7 and 14) \nRegistration required – click link below or email mhoule@methuentv.org
URL:https://methuentv.org/event/field-camera-class-part-2/
LOCATION:Methuen Community Studios\, 20 Aegean Drive\, Unit 11\, Methuen\, MA\, 01844\, United States
CATEGORIES:Training Classes
ORGANIZER;CN="Methuen Community Studios":MAILTO:mhoule@methuentv.org
END:VEVENT
BEGIN:VEVENT
DTSTART;TZID=America/New_York:20230307T150000
DTEND;TZID=America/New_York:20230307T170000
DTSTAMP:20260425T124441
CREATED:20230216T172800Z
LAST-MODIFIED:20230216T173054Z
UID:2661-1678201200-1678208400@methuentv.org
SUMMARY:Field Camera Class - Part 1
DESCRIPTION:Earn your free ticket to local Methuen events as you are the camera person! We will teach you how to run the camera\, what shots to get\, and how you can create your very own programs out in the community. \nTwo classes are required (March 7 and 14) \nRegistration required – click link below or email mhoule@methuentv.org
URL:https://methuentv.org/event/field-camera-class/
LOCATION:Methuen Community Studios\, 20 Aegean Drive\, Unit 11\, Methuen\, MA\, 01844\, United States
CATEGORIES:Training Classes
ORGANIZER;CN="Methuen Community Studios":MAILTO:mhoule@methuentv.org
END:VEVENT
BEGIN:VEVENT
DTSTART;TZID=America/New_York:20230306T190000
DTEND;TZID=America/New_York:20230306T190000
DTSTAMP:20260425T124441
CREATED:20230215T232022Z
LAST-MODIFIED:20230215T232022Z
UID:2649-1678129200-1678129200@methuentv.org
SUMMARY:City Council Regular Meeting
DESCRIPTION:– Watch on Comcast Xfinity Channel 8 or Verizon FiOS Channel 32 \n– View on a computer or cell phone via LIVE Stream on https://www.methuentv.org/methuen-government-tv-live-stream/ \n– This meeting will be archived and viewable on-demand within 1-3 business days at https://methuen-ma.viebit.com/
URL:https://methuentv.org/event/city-council-regular-meeting/
LOCATION:MA
CATEGORIES:Government Meetings
END:VEVENT
BEGIN:VEVENT
DTSTART;TZID=America/New_York:20230226T160000
DTEND;TZID=America/New_York:20230226T180000
DTSTAMP:20260425T124441
CREATED:20230213T214817Z
LAST-MODIFIED:20230213T214817Z
UID:2635-1677427200-1677434400@methuentv.org
SUMMARY:Gravity Men Music Cafe
DESCRIPTION:
URL:https://methuentv.org/event/gravity-men-music-cafe/
LOCATION:Methuen Community Studios\, 20 Aegean Drive\, Unit 11\, Methuen\, MA\, 01844\, United States
ORGANIZER;CN="Methuen Community Studios":MAILTO:mhoule@methuentv.org
END:VEVENT
BEGIN:VEVENT
DTSTART;TZID=America/New_York:20230222T190000
DTEND;TZID=America/New_York:20230222T190000
DTSTAMP:20260425T124441
CREATED:20230215T225203Z
LAST-MODIFIED:20230215T225353Z
UID:2643-1677092400-1677092400@methuentv.org
SUMMARY:Zoning Board of Appeals Regular Meeting
DESCRIPTION:– Watch on Comcast Xfinity Channel 8 or Verizon FiOS Channel 32 \n– View on a computer or cell phone via LIVE Stream on https://www.methuentv.org/methuen-government-tv-live-stream/ \n– This meeting will be archived and viewable on-demand within 1-3 business days at https://methuen-ma.viebit.com/
URL:https://methuentv.org/event/zoning-board-of-appeals-regular-meeting/
LOCATION:MA
CATEGORIES:Government Meetings
END:VEVENT
BEGIN:VEVENT
DTSTART;TZID=America/New_York:20230221T190000
DTEND;TZID=America/New_York:20230221T190000
DTSTAMP:20260425T124441
CREATED:20230213T161050Z
LAST-MODIFIED:20230213T204157Z
UID:2630-1677006000-1677006000@methuentv.org
SUMMARY:City Council Meeting 2/21/2023
DESCRIPTION:More information and agenda is available here
URL:https://methuentv.org/event/city-council-meeting-2-21-2023/
LOCATION:MA
CATEGORIES:Government Meetings
END:VEVENT
BEGIN:VEVENT
DTSTART;TZID=America/New_York:20230221T184500
DTEND;TZID=America/New_York:20230221T184500
DTSTAMP:20260425T124441
CREATED:20230215T225744Z
LAST-MODIFIED:20230215T225744Z
UID:2647-1677005100-1677005100@methuentv.org
SUMMARY:City Council Public Hearing
DESCRIPTION:– Watch on Comcast Xfinity Channel 8 or Verizon FiOS Channel 32 \n– View on a computer or cell phone via LIVE Stream on https://www.methuentv.org/methuen-government-tv-live-stream/ \n– This meeting will be archived and viewable on-demand within 1-3 business days at https://methuen-ma.viebit.com/
URL:https://methuentv.org/event/city-council-public-hearing/
LOCATION:MA
CATEGORIES:Government Meetings
END:VEVENT
BEGIN:VEVENT
DTSTART;TZID=America/New_York:20230221T174500
DTEND;TZID=America/New_York:20230221T174500
DTSTAMP:20260425T124441
CREATED:20230217T161426Z
LAST-MODIFIED:20230217T161426Z
UID:2682-1677001500-1677001500@methuentv.org
SUMMARY:City Council Special Meeting
DESCRIPTION:Agenda can be found here \n– Watch on Comcast Xfinity Channel 8 or Verizon FiOS Channel 32 \n– View on a computer or cell phone via LIVE Stream on https://www.methuentv.org/methuen-government-tv-live-stream/ \n– This meeting will be archived and viewable on-demand within 1-3 business days at https://methuen-ma.viebit.com/ \n 
URL:https://methuentv.org/event/city-council-special-meeting/
LOCATION:MA
CATEGORIES:Government Meetings
END:VEVENT
END:VCALENDAR